BEGIN:VCALENDAR
VERSION:2.0
PRODID:icalendar-ruby
CALSCALE:GREGORIAN
METHOD:PUBLISH
BEGIN:VEVENT
DTSTAMP:20260419T144329Z
UID:193-1226874@mosaichouse.ca
DTSTART:20260620T010000Z
DTEND:20260621T190000Z
CLASS:PUBLIC
CREATED:20260409T151755
DESCRIPTION:WHY COME?\n•  Camping/Cabin-ing\, enjoying nature\, roasting
   marshmallows over a crackling campfire.\n•  To escape the city with 
 only 1.5 hour drive south. \n•  To worship God and explore what it mean
 s to  do life together as missionaries of mosaicHouse  Church \n•  To
  cook tasty meals with others and eat them  together. \n•  To enjoy co
 mmunity building activities and fun for  the whole family! \n•  Food\,
  fun and fellowship!\nWHERE?\nAt Rehoboth Gull Lake Camp on the east shore
   of Gull Lake. \nWHAT TO EXPECT\nFun\, food and fellowship with the mos
 aicHouse  church community! \nThere are 3 onsite options for sleeping ar
 rangements:  \n1]bring your own tent - on grass sites \n2]RV - electrica
 l outlet\, no water or sewer dumping \n3]Cabin - There are two types of c
 abins: large communal cabins filled with bunkbeds\, and smaller family sty
 le  rooms within a larger cabin (some are serviced with  washrooms).  \
 n\nThere is a bathroom on site with several stalls and showers\nAll meals 
 are included\, but will require teamwork.  Everyone will be placed on a s
 chedule to help  prepare\, cook food\, wash dishes and clean-up\nCOST: \n
 Individuals $85 [age 12 and up]\nChildren $65 [age 2-11] \n   *children 
 2 and under are free\nScholarships available - email kim@mosaicHouse.ca\n\
 n\nIf you can only come to a portion of the campout please register accord
 ingly so we can be prepared to include you in the meals and activities!! 
 \nTentative schedule:\n\nFriday evening\, June 19\n7:00 arrival &amp\; reg
 istration \n8:00- 8:30 gathering in the chapel \n8:30 – 9:30 ice break
 ers &amp\; games   9:30 – ? campfire and snacks \nSaturday\, June 20
  \n8:30 – 9:30 breakfast* \n10:00 – 11:00 worship time \n11:00 – 
 noon serve one another \n12:30 -1:30 lunch * \n1:30 group photo \n1:30 
 – 3:30 organized games for everyone \n3:30 – 5:00 free time\, snacks*
  \n5:30– 6:30 dinner* \n7:00 – 8:00 worship \n8:00- 9:30 team skits
  \n9:30 - ? campfire singing and snacks\nSunday\, June 21\n8:30-9:30 brea
 kfast * \n10:30 – 11:30 worship time\, prayer time \nNoon – 1:00 lun
 ch * \n1:00 – ? clean\, pack-up and say goodbyes \n* Communal meals pr
 ovided by mH and prepared by teams 
LAST-MODIFIED:20260409T151755
LOCATION:at Gull Lake
SUMMARY:Church Camp Out
URL;VALUE=URI:https://www.mosaichouse.ca/events/church-camp-out--193/2026-0
 6-19
ATTACH;FILENAME=CAMP-2 copy.png;FMTTYPE=image/png:https://dq5pwpg1q8ru0.clo
 udfront.net/2026/04/09/21/17/19/21b7a088-77b1-4f6a-a9a3-cc877a5f2d4c/CAMP-
 2%20copy.png
ATTACH;FILENAME=2022.png;FMTTYPE=image/png:https://dq5pwpg1q8ru0.cloudfront
 .net/2023/03/21/12/40/41/2582ed59-f06a-4be5-b8a6-893f0d0c2c96/2022.png
ATTACH;FILENAME=Hwy_2_map_2004.pdf;FMTTYPE=application/pdf:https://dq5pwpg1
 q8ru0.cloudfront.net/2025/06/18/20/28/37/00001e9d-2d98-47d8-b5c5-8fa351402
 968/Hwy_2_map_2004.pdf
END:VEVENT
END:VCALENDAR
